BEGIN:VCALENDAR
VERSION:2.0
PRODID:-//DP Pro Event Calendar//2.3.2//EN
BEGIN:VEVENT
UID:e69b5a81-be52-4db6-ad79-773ad327fe80
DTSTART;TZID=Europe/Warsaw;VALUE=DATE:20260420
DTEND;TZID=Europe/Warsaw;VALUE=DATE:20260421
DTSTAMP;VALUE=DATE:20260420
SUMMARY:21.4.2026\, Wtorek\, Dzień Powszedni
DESCRIPTION:7:00 +Maria Zaręba18:00 W intencji Bogusława Pindla z okazji 30 rocznicy urodzin dziękczynna za otrzymane łaski\, z prośbą o dalsze\, dar zdrowia\, Boże błogosławieństwo i opiekę Matki Bożej
LOCATION:
URL:
END:VEVENT
END:VCALENDAR