BEGIN:VCALENDAR
VERSION:2.0
PRODID:-//DP Pro Event Calendar//2.3.2//EN
BEGIN:VEVENT
UID:beae4205-3219-4619-9d4d-6a5265d637f9
DTSTART;TZID=Europe/Warsaw;VALUE=DATE:20260422
DTEND;TZID=Europe/Warsaw;VALUE=DATE:20260423
DTSTAMP;VALUE=DATE:20260422
SUMMARY:23.4.2026\, Czwartek\, Dzień Powszedni
DESCRIPTION:7:00 +Helena Borowska18:00 W intencji Agnieszki i Bartłomieja Gardaś w  25 rocznicę ślubu  dziękczynna za otrzymane łaski\, z prośbą o dalsze\, dar zdrowia\, Boże błogosławieństwo i opiekę Matki Bożej
LOCATION:
URL:
END:VEVENT
END:VCALENDAR